BEGIN:VCALENDAR
VERSION:2.0
PRODID:-//ChamberMaster//Event Calendar 2.0//EN
METHOD:PUBLISH
X-PUBLISHED-TTL:P3D
REFRESH-INTERVAL:P3D
CALSCALE:GREGORIAN
BEGIN:VEVENT
DTSTART:20260528T153000Z
DTEND:20260528T170000Z
X-MICROSOFT-CDO-ALLDAYEVENT:FALSE
SUMMARY:NC Dept of Labor Safety Awards
DESCRIPTION:
X-ALT-DESC;FMTTYPE=text/html:
LOCATION:Ball Park Community Center 7003 Ball Park Road Thomasville\, NC 27360
UID:e.1325.2692
SEQUENCE:3
DTSTAMP:20260423T031656Z
URL:https://business.thomasvillechamber.net/events/details/nc-dept-of-labor-safety-awards-2692
END:VEVENT

END:VCALENDAR
