BEGIN:VCALENDAR
VERSION:2.0
PRODID:-//ChamberMaster//Event Calendar 2.0//EN
METHOD:PUBLISH
X-PUBLISHED-TTL:P3D
REFRESH-INTERVAL:P3D
CALSCALE:GREGORIAN
BEGIN:VEVENT
DTSTART:20260519T160000Z
DTEND:20260519T210000Z
X-MICROSOFT-CDO-ALLDAYEVENT:FALSE
SUMMARY:1st Annual Thomasville Chamber Golf Tournament
DESCRIPTION:
X-ALT-DESC;FMTTYPE=text/html:
LOCATION:Winding Creek Golf Course 72 Winding Creek Road Thomasville\, NC 27360
UID:e.1325.2690
SEQUENCE:3
DTSTAMP:20260423T032353Z
URL:https://business.thomasvillechamber.net/events/details/1st-annual-thomasville-chamber-golf-tournament-2690
END:VEVENT

END:VCALENDAR
